BEGIN:VCALENDAR
VERSION:2.0
PRODID:-//NEA Big Read Lakeshore - ECPv6.15.20//NONSGML v1.0//EN
CALSCALE:GREGORIAN
METHOD:PUBLISH
X-ORIGINAL-URL:https://bigreadlakeshore.com
X-WR-CALDESC:Events for NEA Big Read Lakeshore
REFRESH-INTERVAL;VALUE=DURATION:PT1H
X-Robots-Tag:noindex
X-PUBLISHED-TTL:PT1H
BEGIN:VTIMEZONE
TZID:America/Detroit
BEGIN:DAYLIGHT
TZOFFSETFROM:-0500
TZOFFSETTO:-0400
TZNAME:EDT
DTSTART:20200308T070000
END:DAYLIGHT
BEGIN:STANDARD
TZOFFSETFROM:-0400
TZOFFSETTO:-0500
TZNAME:EST
DTSTART:20201101T060000
END:STANDARD
BEGIN:DAYLIGHT
TZOFFSETFROM:-0500
TZOFFSETTO:-0400
TZNAME:EDT
DTSTART:20210314T070000
END:DAYLIGHT
BEGIN:STANDARD
TZOFFSETFROM:-0400
TZOFFSETTO:-0500
TZNAME:EST
DTSTART:20211107T060000
END:STANDARD
BEGIN:DAYLIGHT
TZOFFSETFROM:-0500
TZOFFSETTO:-0400
TZNAME:EDT
DTSTART:20220313T070000
END:DAYLIGHT
BEGIN:STANDARD
TZOFFSETFROM:-0400
TZOFFSETTO:-0500
TZNAME:EST
DTSTART:20221106T060000
END:STANDARD
END:VTIMEZONE
BEGIN:VEVENT
DTSTART;TZID=America/Detroit:20211105T170000
DTEND;TZID=America/Detroit:20211105T180000
DTSTAMP:20260421T021912
CREATED:20211001T025210Z
LAST-MODIFIED:20211012T133809Z
UID:1581-1636131600-1636135200@bigreadlakeshore.com
SUMMARY:Teen Open Mic Night
DESCRIPTION:Let your voice be heard and your creativity shine at our open mic for teens and tweens. Share short stories\, poems\, songs\, or even jokes\, or cheer on your friends from the audience. All content must be appropriate for a general audience. Need some new materials before the performance? Check out the Teen Area throughout October for inspiration from the NEA Big Read Lakeshore’s 2021 book\, An American Sunrise. Refreshments and good vibes will be provided at the event. Registration required.
URL:https://bigreadlakeshore.com/event/teen-open-mic-night/
LOCATION:Allegan District Library\, Teen Area\, 331 Hubbard Street\, Allegan\, MI\, 49010\, United States
CATEGORIES:Big Read
ATTACH;FMTTYPE=image/png:https://bigreadlakeshore.com/wp-content/uploads/sites/7/2021/09/Open-Mic-Night.png
END:VEVENT
END:VCALENDAR