BEGIN:VCALENDAR
VERSION:2.0
PRODID:-//NEA Big Read Lakeshore - ECPv6.15.20//NONSGML v1.0//EN
CALSCALE:GREGORIAN
METHOD:PUBLISH
X-WR-CALNAME:NEA Big Read Lakeshore
X-ORIGINAL-URL:https://bigreadlakeshore.com
X-WR-CALDESC:Events for NEA Big Read Lakeshore
REFRESH-INTERVAL;VALUE=DURATION:PT1H
X-Robots-Tag:noindex
X-PUBLISHED-TTL:PT1H
BEGIN:VTIMEZONE
TZID:America/Detroit
BEGIN:DAYLIGHT
TZOFFSETFROM:-0500
TZOFFSETTO:-0400
TZNAME:EDT
DTSTART:20200308T070000
END:DAYLIGHT
BEGIN:STANDARD
TZOFFSETFROM:-0400
TZOFFSETTO:-0500
TZNAME:EST
DTSTART:20201101T060000
END:STANDARD
BEGIN:DAYLIGHT
TZOFFSETFROM:-0500
TZOFFSETTO:-0400
TZNAME:EDT
DTSTART:20210314T070000
END:DAYLIGHT
BEGIN:STANDARD
TZOFFSETFROM:-0400
TZOFFSETTO:-0500
TZNAME:EST
DTSTART:20211107T060000
END:STANDARD
BEGIN:DAYLIGHT
TZOFFSETFROM:-0500
TZOFFSETTO:-0400
TZNAME:EDT
DTSTART:20220313T070000
END:DAYLIGHT
BEGIN:STANDARD
TZOFFSETFROM:-0400
TZOFFSETTO:-0500
TZNAME:EST
DTSTART:20221106T060000
END:STANDARD
END:VTIMEZONE
BEGIN:VEVENT
DTSTART;VALUE=DATE:20211024
DTEND;VALUE=DATE:20211118
DTSTAMP:20260421T210857
CREATED:20211001T003412Z
LAST-MODIFIED:20211008T220211Z
UID:1683-1635116400-1637189999@bigreadlakeshore.com
SUMMARY:Voices Through Verse
DESCRIPTION:After reading and reflecting on Joy Harjo’s journey through verse\, Big Read participants will have the opportunity to share their own triumph and tragedy. Voices through Verse\, an interactive community art project\, invites participants to use various forms of poetry and materials available in the exhibit space to share life experiences with others. Voices through Verse will be created at Howard Miller Public Library for the month of November. Those wishing to add to this unique community art project may do so during the library’s regular hours of operation: Monday-Thursday from 9:00 am – 8:00 pm; Friday from 9:00 am – 5:00 pm; and Saturday from 9:00 am – 3:00 pm.
URL:https://bigreadlakeshore.com/event/voices-through-verse/
LOCATION:Howard Miller Public Library 14 S Church St\, Zeeland\, MI 49464
CATEGORIES:Big Read
ATTACH;FMTTYPE=image/png:https://bigreadlakeshore.com/wp-content/uploads/sites/7/2021/09/Voices-Through-Verse.png
END:VEVENT
BEGIN:VEVENT
DTSTART;VALUE=DATE:20211024
DTEND;VALUE=DATE:20211201
DTSTAMP:20260421T210857
CREATED:20211001T002846Z
LAST-MODIFIED:20211008T210342Z
UID:1687-1635116400-1638313199@bigreadlakeshore.com
SUMMARY:Book of the Month Virtual Book Discussion: An American Sunrise
DESCRIPTION:We have a separate “Book of the Month” Facebook page in which we feature a different book and invite community members to join in the conversation via the FB page. 
URL:https://bigreadlakeshore.com/event/book-of-the-month-virtual-book-discussion-an-american-sunrise/
LOCATION:Howard Miller Public Library 14 S Church St\, Zeeland\, MI 49464
CATEGORIES:Big Read
ATTACH;FMTTYPE=image/png:https://bigreadlakeshore.com/wp-content/uploads/sites/7/2021/09/Howard-Miller-Book-Discussion.png
END:VEVENT
BEGIN:VEVENT
DTSTART;TZID=America/Detroit:20211110T090000
DTEND;TZID=America/Detroit:20211110T100000
DTSTAMP:20260421T210857
CREATED:20210930T230858Z
LAST-MODIFIED:20211012T134653Z
UID:1699-1636534800-1636538400@bigreadlakeshore.com
SUMMARY:Fry Bread Storytime
DESCRIPTION:Join our friends at Howard Miller in a Little Read storytime!
URL:https://bigreadlakeshore.com/event/fry-bread-storytime/
LOCATION:Howard Miller Public Library 14 S Church St\, Zeeland\, MI 49464
CATEGORIES:Little Read
ATTACH;FMTTYPE=image/png:https://bigreadlakeshore.com/wp-content/uploads/sites/7/2021/09/Fry-Bread-Storytime-Howard-Miller-2.png
END:VEVENT
BEGIN:VEVENT
DTSTART;TZID=America/Detroit:20211110T100000
DTEND;TZID=America/Detroit:20211110T110000
DTSTAMP:20260421T210857
CREATED:20210930T230959Z
LAST-MODIFIED:20211012T134555Z
UID:1701-1636538400-1636542000@bigreadlakeshore.com
SUMMARY:Fry Bread Storytime
DESCRIPTION:Join our friends at Howard Miller in a Little Read storytime!
URL:https://bigreadlakeshore.com/event/fry-bread-storytime-2/
LOCATION:Howard Miller Public Library 14 S Church St\, Zeeland\, MI 49464
CATEGORIES:Little Read
ATTACH;FMTTYPE=image/png:https://bigreadlakeshore.com/wp-content/uploads/sites/7/2021/09/Fry-Bread-Storytime-Howard-Miller-2.png
END:VEVENT
END:VCALENDAR