BEGIN:VCALENDAR
VERSION:2.0
PRODID:-//NEA Big Read Lakeshore - ECPv6.15.20//NONSGML v1.0//EN
CALSCALE:GREGORIAN
METHOD:PUBLISH
X-ORIGINAL-URL:https://bigreadlakeshore.com
X-WR-CALDESC:Events for NEA Big Read Lakeshore
REFRESH-INTERVAL;VALUE=DURATION:PT1H
X-Robots-Tag:noindex
X-PUBLISHED-TTL:PT1H
BEGIN:VTIMEZONE
TZID:America/Detroit
BEGIN:DAYLIGHT
TZOFFSETFROM:-0500
TZOFFSETTO:-0400
TZNAME:EDT
DTSTART:20200308T070000
END:DAYLIGHT
BEGIN:STANDARD
TZOFFSETFROM:-0400
TZOFFSETTO:-0500
TZNAME:EST
DTSTART:20201101T060000
END:STANDARD
BEGIN:DAYLIGHT
TZOFFSETFROM:-0500
TZOFFSETTO:-0400
TZNAME:EDT
DTSTART:20210314T070000
END:DAYLIGHT
BEGIN:STANDARD
TZOFFSETFROM:-0400
TZOFFSETTO:-0500
TZNAME:EST
DTSTART:20211107T060000
END:STANDARD
BEGIN:DAYLIGHT
TZOFFSETFROM:-0500
TZOFFSETTO:-0400
TZNAME:EDT
DTSTART:20220313T070000
END:DAYLIGHT
BEGIN:STANDARD
TZOFFSETFROM:-0400
TZOFFSETTO:-0500
TZNAME:EST
DTSTART:20221106T060000
END:STANDARD
END:VTIMEZONE
BEGIN:VEVENT
DTSTART;VALUE=DATE:20210909
DTEND;VALUE=DATE:20211212
DTSTAMP:20260421T183849
CREATED:20210929T153042Z
LAST-MODIFIED:20211014T023441Z
UID:1484-1631228400-1639263599@bigreadlakeshore.com
SUMMARY:Native American Art: Recent Acquisitions from the Kruizenga Museum Collection
DESCRIPTION:As part of its commitment to expand the cultural diversity of its collection\, the Kruizenga Art Museum recently began collecting work by modern and contemporary Native American artists. The museum’s goal is gradually to acquire artworks made by indigenous artists from different regions and tribes in a variety of media to reflect the continuing vitality\, creativity and relevance of Native American culture. Native American Art: Recent Acquisitions from the Kruizenga Museum Collection features ten Native American artworks by eight different artists. The artworks include paintings\, prints\, photographs\, and sculptures that range in date from 1984 to 2021. The exhibition was organized to complement and support the 2021 NEA Big Read Lakeshore Program. Admission to the Kruizenga Art Museum is free and all are welcome. You can see the artworks featured in the exhibition in this digital gallery:\nhttps://providence.hope.edu/index.php/Gallery/795.
URL:https://bigreadlakeshore.com/event/native-american-art-recent-acquisitions-from-the-kruizenga-museum-collection/
LOCATION:Kruizenga Art Museum 271 Columbia Ave\, Holland\, MI 49423
CATEGORIES:Big Read,Little Read
ATTACH;FMTTYPE=image/png:https://bigreadlakeshore.com/wp-content/uploads/sites/7/2021/09/KAM-Exhibit.png
END:VEVENT
BEGIN:VEVENT
DTSTART;VALUE=DATE:20210930
DTEND;VALUE=DATE:20211101
DTSTAMP:20260421T183849
CREATED:20211001T002605Z
LAST-MODIFIED:20211014T023456Z
UID:1494-1633017600-1635695999@bigreadlakeshore.com
SUMMARY:Little Read Community Cookbook Submissions
DESCRIPTION:Inspired by this year’s Little Read book Fry Bread: A Native American Family Story by Kevin Noble Maillard\, Herrick District Library is creating a cookbook composed of recipes and stories of food traditions embraced by members of our community. Whether born of necessity as fry bread was\, inspired by cultural heritage\, or developed through generations of family customs\, many food traditions have stories behind them. We hope you will consider sharing some of your family’s stories and recipes for this community-wide collaborative book that will be available for checkout at both Herrick Library locations! Submit your recipes here: https://herrickdl.org/community-cookbook/!
URL:https://bigreadlakeshore.com/event/little-read-community-cookbook-submissions/
LOCATION:Herrick District Library 300 S River Ave\, Holland\, MI 49423
CATEGORIES:Little Read
ATTACH;FMTTYPE=image/png:https://bigreadlakeshore.com/wp-content/uploads/sites/7/2021/09/Cookbook.png
END:VEVENT
END:VCALENDAR