BEGIN:VCALENDAR
VERSION:2.0
PRODID:-//NEA Big Read Lakeshore - ECPv6.15.20//NONSGML v1.0//EN
CALSCALE:GREGORIAN
METHOD:PUBLISH
X-WR-CALNAME:NEA Big Read Lakeshore
X-ORIGINAL-URL:https://bigreadlakeshore.com
X-WR-CALDESC:Events for NEA Big Read Lakeshore
REFRESH-INTERVAL;VALUE=DURATION:PT1H
X-Robots-Tag:noindex
X-PUBLISHED-TTL:PT1H
BEGIN:VTIMEZONE
TZID:America/Detroit
BEGIN:DAYLIGHT
TZOFFSETFROM:-0500
TZOFFSETTO:-0400
TZNAME:EDT
DTSTART:20190310T070000
END:DAYLIGHT
BEGIN:STANDARD
TZOFFSETFROM:-0400
TZOFFSETTO:-0500
TZNAME:EST
DTSTART:20191103T060000
END:STANDARD
BEGIN:DAYLIGHT
TZOFFSETFROM:-0500
TZOFFSETTO:-0400
TZNAME:EDT
DTSTART:20200308T070000
END:DAYLIGHT
BEGIN:STANDARD
TZOFFSETFROM:-0400
TZOFFSETTO:-0500
TZNAME:EST
DTSTART:20201101T060000
END:STANDARD
BEGIN:DAYLIGHT
TZOFFSETFROM:-0500
TZOFFSETTO:-0400
TZNAME:EDT
DTSTART:20210314T070000
END:DAYLIGHT
BEGIN:STANDARD
TZOFFSETFROM:-0400
TZOFFSETTO:-0500
TZNAME:EST
DTSTART:20211107T060000
END:STANDARD
END:VTIMEZONE
BEGIN:VEVENT
DTSTART;TZID=America/Detroit:20201014T000000
DTEND;TZID=America/Detroit:20201121T225900
DTSTAMP:20260422T041426
CREATED:20201013T233112Z
LAST-MODIFIED:20201019T224959Z
UID:233-1602633600-1605999540@bigreadlakeshore.com
SUMMARY:Black Lives Matter\, Black Culture Matters - Ongoing Art Exhibition
DESCRIPTION:Black Lives Matter\, Black Culture Matters addresses a variety of topics in African American history and culture from the end of the Civil War to the present. It does not pretend to be comprehensive\, but is offered in the hope that it will lead to contemplation\, conversation and ultimately change. The artworks in the exhibition all belong to the permanent collection of the Kruizenga Art Museum. Most of the artworks have been acquired over the past six years as part of the museum’s mission to educate\, engage and inspire the communities of Hope College and West Michigan while fostering the qualities of empathy\, tolerance and global understanding that are part of Hope College’s mission to provide an outstanding Christian liberal arts education. (Image: John Brown Praying by Jacob Lawrence.) The Kruizenga Art Museum is open to current Hope College ID holders only beginning Tuesday\, August 18. The museum will open to the public beginning Thursday\, September 17.
URL:https://bigreadlakeshore.com/event/black-lives-matter-black-culture-matters-ongoing-art-exhibition/
LOCATION:Kruizenga Art Museum 271 Columbia Ave\, Holland\, MI 49423
CATEGORIES:Big Read,Little Read,Middle Read
ATTACH;FMTTYPE=image/jpeg:https://bigreadlakeshore.com/wp-content/uploads/sites/7/2020/10/museum-building.jpg
END:VEVENT
BEGIN:VEVENT
DTSTART;TZID=America/Detroit:20201010T000000
DTEND;TZID=America/Detroit:20201017T235900
DTSTAMP:20260422T041426
CREATED:20201009T173939Z
LAST-MODIFIED:20201018T113952Z
UID:244-1602288000-1602979140@bigreadlakeshore.com
SUMMARY:Book Give-Away at Participating Libraries
DESCRIPTION:Visit your local library to participate in book give-away events. Participating libraries include: Allegan District Library\, Allendale District Library\, Fennville District Library\, Gary Byker Library of Jamestown\, Herrick District Library\, Howard Miller Public Library\, Loutit District Library\, Patmos Library\, Saugatuck-Douglas District Library\, & Spring Lake District Library.
URL:https://bigreadlakeshore.com/event/book-give-away-at-participating-libraries/
LOCATION:Herrick District Library 300 S River Ave\, Holland\, MI 49423
CATEGORIES:Big Read,Little Read,Middle Read
ATTACH;FMTTYPE=image/jpeg:https://bigreadlakeshore.com/wp-content/uploads/sites/7/2020/10/book-give-away-scaled.jpg
END:VEVENT
END:VCALENDAR