BEGIN:VCALENDAR
VERSION:2.0
PRODID:-//NEA Big Read Lakeshore - ECPv6.15.20//NONSGML v1.0//EN
CALSCALE:GREGORIAN
METHOD:PUBLISH
X-ORIGINAL-URL:https://bigreadlakeshore.com
X-WR-CALDESC:Events for NEA Big Read Lakeshore
REFRESH-INTERVAL;VALUE=DURATION:PT1H
X-Robots-Tag:noindex
X-PUBLISHED-TTL:PT1H
BEGIN:VTIMEZONE
TZID:America/Detroit
BEGIN:DAYLIGHT
TZOFFSETFROM:-0500
TZOFFSETTO:-0400
TZNAME:EDT
DTSTART:20240310T070000
END:DAYLIGHT
BEGIN:STANDARD
TZOFFSETFROM:-0400
TZOFFSETTO:-0500
TZNAME:EST
DTSTART:20241103T060000
END:STANDARD
BEGIN:DAYLIGHT
TZOFFSETFROM:-0500
TZOFFSETTO:-0400
TZNAME:EDT
DTSTART:20250309T070000
END:DAYLIGHT
BEGIN:STANDARD
TZOFFSETFROM:-0400
TZOFFSETTO:-0500
TZNAME:EST
DTSTART:20251102T060000
END:STANDARD
BEGIN:DAYLIGHT
TZOFFSETFROM:-0500
TZOFFSETTO:-0400
TZNAME:EDT
DTSTART:20260308T070000
END:DAYLIGHT
BEGIN:STANDARD
TZOFFSETFROM:-0400
TZOFFSETTO:-0500
TZNAME:EST
DTSTART:20261101T060000
END:STANDARD
END:VTIMEZONE
BEGIN:VEVENT
DTSTART;TZID=America/Detroit:20251126T100000
DTEND;TZID=America/Detroit:20251126T170000
DTSTAMP:20260424T001226
CREATED:20250826T152558Z
LAST-MODIFIED:20250826T152636Z
UID:27720-1764151200-1764176400@bigreadlakeshore.com
SUMMARY:Drop In DIY Wordless Picture Books
DESCRIPTION:Stop into the children’s program room anytime from 10 am-5 pm to make a DIY wordless picture book. This year’s Little Read book selection\, Journey by Aaron Becker\, along with several other wordless picture books\, will be on display in the room for inspiration. All ages welcome.
URL:https://bigreadlakeshore.com/event/drop-in-diy-wordless-picture-books/
LOCATION:Georgetown Township Public Library\, 1525 Baldwin St.\, Jenison\, MI\, 49428\, United States
CATEGORIES:Little Read
END:VEVENT
END:VCALENDAR